BEGIN:VCALENDAR
VERSION:2.0
PRODID:-//ChamberMaster//Event Calendar 2.0//EN
METHOD:PUBLISH
X-PUBLISHED-TTL:P3D
REFRESH-INTERVAL:P3D
CALSCALE:GREGORIAN
BEGIN:VEVENT
DTSTART:20251011T153000Z
DTEND:20251019T205000Z
X-MICROSOFT-CDO-ALLDAYEVENT:FALSE
SUMMARY:Winnie the Pooh (and His Pals too!)
DESCRIPTION:Step into the gentle world of the Hundred Acre Wood. A delightful Theater for the Very Young production created especially for 2-5 year olds. Through playful movement\, music\, and multi-sensory storytelling\, young audiences will join Pooh\, Piglet\, Tigger\, and friends on an interactive adventure filled with friendship\, curiosity\, and wonder. Perfect for a first time theater experience! Recommended for ages 2-5
X-ALT-DESC;FMTTYPE=text/html:Step into the gentle world of the Hundred Acre Wood. A delightful Theater for the Very Young production created especially for 2-5 year olds. Through playful movement\, music\, and multi-sensory storytelling\, young audiences will join Pooh\, Piglet\, Tigger\, and friends on an interactive adventure filled with friendship\, curiosity\, and wonder. Perfect for a first time theater experience! Recommended for ages 2-5
LOCATION:Sunrise Theater at MYArts\, 1055 E Mifflin St\, Madison\, WI 53703
UID:e.9391.3717
SEQUENCE:3
DTSTAMP:20260424T072542Z
URL:https://members.somethingspecialwi.com/events/details/winnie-the-pooh-and-his-pals-too-3717
END:VEVENT

END:VCALENDAR
