BEGIN:VCALENDAR
VERSION:2.0
PRODID:-//ChamberMaster//Event Calendar 2.0//EN
METHOD:PUBLISH
X-PUBLISHED-TTL:P3D
REFRESH-INTERVAL:P3D
CALSCALE:GREGORIAN
BEGIN:VEVENT
DTSTART:20260530T160000Z
DTEND:20260530T190000Z
X-MICROSOFT-CDO-ALLDAYEVENT:FALSE
SUMMARY:Waterfront Brunch with J Vineyards
DESCRIPTION:Bring your boat\, bike or car to the Waterfront Brunch with J Vineyards. A five-course brunch & wine pairing in Monona.
X-ALT-DESC;FMTTYPE=text/html:Bring your boat\, bike or car to the Waterfront Brunch with J Vineyards. A five-course brunch &amp\; wine pairing in Monona.
LOCATION:Buck & Honey's Monona 800 W. Broadway\, Ste. 300 Monona\, WI 53713
UID:e.9391.4767
SEQUENCE:3
DTSTAMP:20260424T103345Z
URL:https://members.somethingspecialwi.com/events/details/waterfront-brunch-with-j-vineyards-4767
END:VEVENT

END:VCALENDAR
