BEGIN:VCALENDAR
VERSION:2.0
PRODID:-//ChamberMaster//Event Calendar 2.0//EN
METHOD:PUBLISH
X-PUBLISHED-TTL:P3D
REFRESH-INTERVAL:P3D
CALSCALE:GREGORIAN
BEGIN:VEVENT
DTSTART:20250213T003000Z
DTEND:20251218T020000Z
X-MICROSOFT-CDO-ALLDAYEVENT:FALSE
SUMMARY:Trivia Night at Working Draft Beer Co
DESCRIPTION:Every Wednesday night Working Draft hosts its house-made Trivia. The top three teams win WDBC gift cards (or other fun prizes) and the last place team gets to pick one category for the next week. Seats fill up fast\, so we recommend getting here early. We often have a food truck popping up\, so you can enjoy some delicious dinner along with your tasty brews (and brain-bending questions). And even if we don't have a truck on site\, you can take advantage of our delicious Sal's Tomato Pies pizzas and giant soft pretzels from Batch Bakehouse! This event runs from Feb 12\, 2025 to Dec 17\, 2025 and happens every: Wednesdays: 6:30pm - 8:00pm
X-ALT-DESC;FMTTYPE=text/html:Every Wednesday night Working Draft hosts its house-made Trivia. The top three teams win WDBC gift cards (or other fun prizes) and the last place team gets to pick one category for the next week. Seats fill up fast\, so we recommend getting here early. We often have a food truck popping up\, so you can enjoy some delicious dinner along with your tasty brews (and brain-bending questions). And even if we don&#39\;t have a truck on site\, you can take advantage of our delicious Sal&#39\;s Tomato Pies pizzas and giant soft pretzels from Batch Bakehouse! This event runs from Feb 12\, 2025 to Dec 17\, 2025 and happens every: Wednesdays: 6:30pm - 8:00pm
LOCATION:Working Draft Beer Company 1129 E. Wilson Street MADISON\, WI 53703
UID:e.9391.3176
SEQUENCE:3
DTSTAMP:20260421T130915Z
URL:https://members.somethingspecialwi.com/events/details/trivia-night-at-working-draft-beer-co-3176
END:VEVENT

END:VCALENDAR
