BEGIN:VCALENDAR
VERSION:2.0
PRODID:-//ChamberMaster//Event Calendar 2.0//EN
METHOD:PUBLISH
X-PUBLISHED-TTL:P3D
REFRESH-INTERVAL:P3D
CALSCALE:GREGORIAN
BEGIN:VEVENT
DTSTART:20260124T230000Z
DTEND:20260125T030000Z
X-MICROSOFT-CDO-ALLDAYEVENT:FALSE
SUMMARY:St. Andrew's Society of Madison: Robert Burn's Night Celebration
DESCRIPTION:Burns Night is a lively celebration of Scotland's national poet\, Robert Burns\, filled with great food\, poetry\, music\, and plenty of cheer. Guests enjoy a traditional Burns Supper of haggis\, neeps and tatties\, the famous Address to the Haggis\, readings of Burns' witty and heartfelt poems\, and a dram of whisky. With bagpipes\, ceilidh dancing\, laughter\, and warm company\, it's a night that's welcoming\, entertaining\, and unforgettable no Scottish roots required\, just a love of fun and good company.
X-ALT-DESC;FMTTYPE=text/html:Burns Night is a lively celebration of Scotland&rsquo\;s national poet\, Robert Burns\, filled with great food\, poetry\, music\, and plenty of cheer. Guests enjoy a traditional Burns Supper of haggis\, neeps and tatties\, the famous Address to the Haggis\, readings of Burns&rsquo\; witty and heartfelt poems\, and a dram of whisky. With bagpipes\, ceilidh dancing\, laughter\, and warm company\, it&rsquo\;s a night that&rsquo\;s welcoming\, entertaining\, and unforgettable&mdash\;no Scottish roots required\, just a love of fun and good company.
LOCATION:Forward Club at Breese Stevens Field 917 E Mifflin Street Madison\, WI 53703
UID:e.9391.4442
SEQUENCE:3
DTSTAMP:20260424T101722Z
URL:https://members.somethingspecialwi.com/events/details/st-andrew-s-society-of-madison-robert-burn-s-night-celebration-4442
END:VEVENT

END:VCALENDAR
