BEGIN:VCALENDAR
VERSION:2.0
PRODID:-//ChamberMaster//Event Calendar 2.0//EN
METHOD:PUBLISH
X-PUBLISHED-TTL:P3D
REFRESH-INTERVAL:P3D
CALSCALE:GREGORIAN
BEGIN:VEVENT
DTSTART:20260327T000000Z
DTEND:20260327T020000Z
X-MICROSOFT-CDO-ALLDAYEVENT:FALSE
SUMMARY:Singer/Songwriter Showcase w/ Dan Maguire
DESCRIPTION:We've got yet another new artist to ring in the New Year! Dan Maguire is a singer-songwriter based in Rockford\, IL\, known for his distinct style that comes from a captivating blend of influences. Drawing inspiration from iconic artists like Tom Petty\, Eric Clapton\, and Stevie Ray Vaughan\, Dan's music features dynamic guitar work and introspective lyrics that resonate with listeners. His debut solo album\, "Travelin' Light\," released in 2023\, won Album of the Year at the Rockford Area Music Industry Awards\, showcasing his unique sound and storytelling ability. Currently\, Dan is working on his highly anticipated second album\, "Magnolia\," set to release in 2026. He invites you to book him for your next event and experience his heartfelt performances that celebrate life through music. Don't miss the chance to enjoy Dan's soulful sound and engaging presence live!
X-ALT-DESC;FMTTYPE=text/html:We&#39\;ve got yet another new artist to ring in the New Year! Dan Maguire is a singer-songwriter based in Rockford\, IL\, known for his distinct style that comes from a captivating blend of influences. Drawing inspiration from iconic artists like Tom Petty\, Eric Clapton\, and Stevie Ray Vaughan\, Dan&rsquo\;s music features dynamic guitar work and introspective lyrics that resonate with listeners. His debut solo album\, &quot\;Travelin&#39\; Light\,&quot\; released in 2023\, won Album of the Year at the Rockford Area Music Industry Awards\, showcasing his unique sound and storytelling ability. Currently\, Dan is working on his highly anticipated second album\, &quot\;Magnolia\,&quot\; set to release in 2026. He invites you to book him for your next event and experience his heartfelt performances that celebrate life through music. Don&#39\;t miss the chance to enjoy Dan&#39\;s soulful sound and engaging presence live!
LOCATION:Minocqua Brewing Company 2927 East Washington Avenue Madison\, WI 53704
UID:e.9391.4471
SEQUENCE:3
DTSTAMP:20260424T104629Z
URL:https://members.somethingspecialwi.com/events/details/singer-songwriter-showcase-w-dan-maguire-4471
END:VEVENT

END:VCALENDAR
