BEGIN:VCALENDAR
VERSION:2.0
PRODID:-//ChamberMaster//Event Calendar 2.0//EN
METHOD:PUBLISH
X-PUBLISHED-TTL:P3D
REFRESH-INTERVAL:P3D
CALSCALE:GREGORIAN
BEGIN:VEVENT
DTSTART:20260327T000000Z
DTEND:20260327T020000Z
X-MICROSOFT-CDO-ALLDAYEVENT:FALSE
SUMMARY:Singer/Songwriter Showcase w/ Bill Paige
DESCRIPTION:Bill Paige has had the opportunity to perform at a wide range of venues and events\, including Summerfest (Local Artist Stage\, 2nd Floor Stage\, and Tiki Hut Stage from 2021 2025)\, Harley-Davidson (Oconomowoc)\, North Shore Country Club\, Vino Etcetera\, Steeltank Brewery\, Maddy's in Waukesha (where I've also hosted open mic nights)\, and many others throughout the metro area. His sets feature crowd-friendly\, well-known music spanning classic rock\, Americana\, and modern acoustic favorites. Artists he regularly cover include Tom Petty\, Bruce Springsteen\, Neil Young\, Chris Stapleton\, Jason Mraz\, Johnny Cash\, Noah Kahan\, Jason Isbell\, Caamp\, The Lumineers\, John Mellencamp\, Bob Seger\, Counting Crows\, R.E.M.\, and more.
X-ALT-DESC;FMTTYPE=text/html:Bill Paige has had the opportunity to perform at a wide range of venues and events\, including Summerfest (Local Artist Stage\, 2nd Floor Stage\, and Tiki Hut Stage from 2021&ndash\;2025)\, Harley-Davidson (Oconomowoc)\, North Shore Country Club\, Vino Etcetera\, Steeltank Brewery\, Maddy&rsquo\;s in Waukesha (where I&rsquo\;ve also hosted open mic nights)\, and many others throughout the metro area. His sets feature crowd-friendly\, well-known music spanning classic rock\, Americana\, and modern acoustic favorites. Artists he regularly cover include Tom Petty\, Bruce Springsteen\, Neil Young\, Chris Stapleton\, Jason Mraz\, Johnny Cash\, Noah Kahan\, Jason Isbell\, Caamp\, The Lumineers\, John Mellencamp\, Bob Seger\, Counting Crows\, R.E.M.\, and more.
LOCATION:Minocqua Brewing Company 2927 East Washington Avenue Madison\, WI 53704
UID:e.9391.4468
SEQUENCE:3
DTSTAMP:20260424T104757Z
URL:https://members.somethingspecialwi.com/events/details/singer-songwriter-showcase-w-bill-paige-4468
END:VEVENT

END:VCALENDAR
