BEGIN:VCALENDAR
VERSION:2.0
PRODID:-//ChamberMaster//Event Calendar 2.0//EN
METHOD:PUBLISH
X-PUBLISHED-TTL:P3D
REFRESH-INTERVAL:P3D
CALSCALE:GREGORIAN
BEGIN:VEVENT
DTSTART:20260314T233000Z
DTEND:20260315T013000Z
X-MICROSOFT-CDO-ALLDAYEVENT:FALSE
SUMMARY:Musical Theater Sneak Peek and Open Mic with Music Theatre of Madison and Secret Special Guest
DESCRIPTION:Join us as Music Theatre of Madison presents a preview of their upcoming reading of "Miss Door County" by Madison native Nathan Fosbinder. $1.00 of each tap beer sale will be donated to MTM. Also enjoy a super special secret guest and partake in musical theater open mic (please bring your music). Under 21 OK with parent/guardian - alcohol sales only 21+.
X-ALT-DESC;FMTTYPE=text/html:Join us as Music Theatre of Madison presents a preview of their upcoming reading of &quot\;Miss Door County&quot\; by Madison native Nathan Fosbinder. $1.00 of each tap beer sale will be donated to MTM. Also enjoy a super special secret guest and partake in musical theater open mic (please bring your music). Under 21 OK with parent/guardian - alcohol sales only 21+.
LOCATION:Minocqua Brewing Company 2927 East Washington Avenue Madison\, WI 53704
UID:e.9391.4469
SEQUENCE:3
DTSTAMP:20260424T105118Z
URL:https://members.somethingspecialwi.com/events/details/musical-theater-sneak-peek-and-open-mic-with-music-theatre-of-madison-and-secret-special-guest-4469
END:VEVENT

END:VCALENDAR
