BEGIN:VCALENDAR
VERSION:2.0
PRODID:-//ChamberMaster//Event Calendar 2.0//EN
METHOD:PUBLISH
X-PUBLISHED-TTL:P3D
REFRESH-INTERVAL:P3D
CALSCALE:GREGORIAN
BEGIN:VEVENT
DTSTART:20260325T000000Z
DTEND:20260429T013000Z
X-MICROSOFT-CDO-ALLDAYEVENT:FALSE
SUMMARY:Monthly Political Trivia Night with Chris Walker (every 4th Tuesday)
DESCRIPTION:Play fun games\, win fun prizes! Come out for trivia night at Minocqua Brewing Company Madison Taproom! Journalist Chris Walker will test your knowledge on current events and political history.
X-ALT-DESC;FMTTYPE=text/html:Play fun games\, win fun prizes! Come out for trivia night at Minocqua Brewing Company Madison Taproom! Journalist Chris Walker will test your knowledge on current events and political history.
LOCATION:Minocqua Brewing Company 2927 East Washington Avenue Madison\, WI 53704
UID:e.9391.4475
SEQUENCE:3
DTSTAMP:20260424T104838Z
URL:https://members.somethingspecialwi.com/events/details/monthly-political-trivia-night-with-chris-walker-every-4th-tuesday-4475
END:VEVENT

END:VCALENDAR
