BEGIN:VCALENDAR
VERSION:2.0
PRODID:-//ChamberMaster//Event Calendar 2.0//EN
METHOD:PUBLISH
X-PUBLISHED-TTL:P3D
REFRESH-INTERVAL:P3D
CALSCALE:GREGORIAN
BEGIN:VEVENT
DTSTART:20260313T000000Z
DTEND:20260313T020000Z
X-MICROSOFT-CDO-ALLDAYEVENT:FALSE
SUMMARY:Meskales\, Madison's Awesome Ska Band
DESCRIPTION:Meskales is an awesome local ska band consisting of 2 trombones\, 1 trumpet\, drums\, and lead singer/guitar. We love a good horn section at MBC\, and these guys are gonna unplug (a bit) to accommodate our little space. Ska is fun as hell to listen to\, come check it out.
X-ALT-DESC;FMTTYPE=text/html:Meskales is an awesome local ska band consisting of 2 trombones\, 1 trumpet\, drums\, and lead singer/guitar. We love a good horn section at MBC\, and these guys are gonna unplug (a bit) to accommodate our little space. Ska is fun as hell to listen to\, come check it out.
LOCATION:Minocqua Brewing Company\, 2927 East Washington Avenue\, Madison\, WI 53704
UID:e.9391.4472
SEQUENCE:3
DTSTAMP:20260424T104543Z
URL:https://members.somethingspecialwi.com/events/details/meskales-madison-s-awesome-ska-band-4472
END:VEVENT

END:VCALENDAR
