BEGIN:VCALENDAR
VERSION:2.0
PRODID:-//ChamberMaster//Event Calendar 2.0//EN
METHOD:PUBLISH
X-PUBLISHED-TTL:P3D
REFRESH-INTERVAL:P3D
CALSCALE:GREGORIAN
BEGIN:VEVENT
DTSTART:20260502T170000Z
DTEND:20260505T010000Z
X-MICROSOFT-CDO-ALLDAYEVENT:FALSE
SUMMARY:May the Fourth Weekend
DESCRIPTION:Happy Star Wars Day / Weekend! The Midichlorian count will be high at the taproom all weekend because: All Weekend -- We're brewing a Berliner Weisse that allows you to choose the Light-Side or walk down the Dark-Side (and forever will it dominate your destiny if you do) by adding a Woodruff\, Lavender\, or Raspberry syrup. -- We're bringing back Bantha's Best Blue Hazy IPA from last year. -- We'll have a Mandalorian Margarita ????? -- There will be fun stuff on the tv all weekend ?? Saturday -- Cinn City Smash Burgers will be here from 1-7pm Saturday ?? -- We're hosting a Star Wars-themed Trivia Saturday at 6:30pm Sunday -- We're selling Great Taste of the Midwest tickets. Tickets go on sale at noon\, but you can start lining up at 7am. The taps will be open at 8am! -- Sabor Regio will be serving food from 9am to 4pm. Breakfast tacos in the morning\, yum ?? Monday Lego Night will be Star Wars-themed! We have friends everywhere. Bring yours to WDBC and join the rebellion!
X-ALT-DESC;FMTTYPE=text/html:Happy Star Wars Day / Weekend! The Midichlorian count will be high at the taproom all weekend because: All Weekend -- We&rsquo\;re brewing a Berliner Weisse that allows you to choose the Light-Side or walk down the Dark-Side (and forever will it dominate your destiny if you do) by adding a Woodruff\, Lavender\, or Raspberry syrup. -- We&rsquo\;re bringing back Bantha&rsquo\;s Best Blue Hazy IPA from last year. -- We&#39\;ll have a Mandalorian Margarita ????? -- There will be fun stuff on the tv all weekend ?? Saturday -- Cinn City Smash Burgers will be here from 1-7pm Saturday ?? -- We&rsquo\;re hosting a Star Wars-themed Trivia Saturday at 6:30pm Sunday -- We&rsquo\;re selling Great Taste of the Midwest tickets. Tickets go on sale at noon\, but you can start lining up at 7am. The taps will be open at 8am! -- Sabor Regio will be serving food from 9am to 4pm. Breakfast tacos in the morning\, yum ?? Monday Lego Night will be Star Wars-themed! We have friends everywhere. Bring yours to WDBC and join the rebellion!
LOCATION:Working Draft Beer Company\, 1129 E Wilson Street\, Madison\, WI 53703
UID:e.9391.4761
SEQUENCE:3
DTSTAMP:20260424T103355Z
URL:https://members.somethingspecialwi.com/events/details/may-the-fourth-weekend-4761
END:VEVENT

END:VCALENDAR
