BEGIN:VCALENDAR
VERSION:2.0
PRODID:-//ChamberMaster//Event Calendar 2.0//EN
METHOD:PUBLISH
X-PUBLISHED-TTL:P3D
REFRESH-INTERVAL:P3D
CALSCALE:GREGORIAN
BEGIN:VEVENT
DTSTART:20260426T190000Z
DTEND:20260426T210000Z
X-MICROSOFT-CDO-ALLDAYEVENT:FALSE
SUMMARY:Lost Soul Jazz Band
DESCRIPTION:Lost Soul Jazz Band A modern take on pre-war Jazz and roots music. A little bit of New Orleans\, a whole lot of Madison.
X-ALT-DESC;FMTTYPE=text/html:Lost Soul Jazz Band A modern take on pre-war Jazz and roots music. A little bit of New Orleans\, a whole lot of Madison.
LOCATION:Minocqua Brewing Company\, 2927 East Washington Avenue\, Madison\, WI 53704
UID:e.9391.4758
SEQUENCE:3
DTSTAMP:20260420T151447Z
URL:https://members.somethingspecialwi.com/events/details/lost-soul-jazz-band-4758
END:VEVENT

END:VCALENDAR
