BEGIN:VCALENDAR
VERSION:2.0
PRODID:-//ChamberMaster//Event Calendar 2.0//EN
METHOD:PUBLISH
X-PUBLISHED-TTL:P3D
REFRESH-INTERVAL:P3D
CALSCALE:GREGORIAN
BEGIN:VEVENT
DTSTART:20260510T190000Z
DTEND:20260510T210000Z
X-MICROSOFT-CDO-ALLDAYEVENT:FALSE
SUMMARY:Krause Family Band
DESCRIPTION:Celebrate spring and Mother's Day by bringing mom down to the taproom for a great musical performance from a highly-acclaimed family music group! The Krause Family Trio is fronted by Kansas Music Hall of Famer\, Rick Krause (guitar\, banjo\, harmonica\, vocals) with his daughters Katie Krause (vocals) and Ruthie McQuinn (fiddle and vocals). Featuring heartfelt originals and covers ranging from the Mills and Everly Brothers to Tom Waits and Linda Ronstadt\, their close family harmonies won them a MAMA in 2025 and a WAMI in 2024 for their Ensemble Vocals. www.krausefamilyband.com
X-ALT-DESC;FMTTYPE=text/html:Celebrate spring and Mother&#39\;s Day by bringing mom down to the taproom for a great musical performance from a highly-acclaimed family music group! The Krause Family Trio is fronted by Kansas Music Hall of Famer\, Rick Krause (guitar\, banjo\, harmonica\, vocals) with his daughters Katie Krause (vocals) and Ruthie McQuinn (fiddle and vocals). Featuring heartfelt originals and covers ranging from the Mills and Everly Brothers to Tom Waits and Linda Ronstadt\, their close family harmonies won them a MAMA in 2025 and a WAMI in 2024 for their Ensemble Vocals. www.krausefamilyband.com
LOCATION:Madison Taproom\, Minocqua Brewing Company\, 2927 E Washington Ave\, Madison\, WI 53704
UID:e.9391.4766
SEQUENCE:3
DTSTAMP:20260424T103343Z
URL:https://members.somethingspecialwi.com/events/details/krause-family-band-4766
END:VEVENT

END:VCALENDAR
