BEGIN:VCALENDAR
VERSION:2.0
PRODID:-//ChamberMaster//Event Calendar 2.0//EN
METHOD:PUBLISH
X-PUBLISHED-TTL:P3D
REFRESH-INTERVAL:P3D
CALSCALE:GREGORIAN
BEGIN:VEVENT
DTSTART:20260224T223000Z
DTEND:20260225T020000Z
X-MICROSOFT-CDO-ALLDAYEVENT:FALSE
SUMMARY:Ice Skating
DESCRIPTION:Buck & Honey's has partnered with Monona Parks and the Lake Ridge Bank River Rink to bring a night of free ice skating to YOU. From 4:30pm-8:00pm enjoy skate rentals and ice time thanks to Buck & Honey's.
X-ALT-DESC;FMTTYPE=text/html:Buck &amp\; Honey&#39\;s has partnered with Monona Parks and the Lake Ridge Bank River Rink to bring a night of free ice skating to YOU. From 4:30pm-8:00pm enjoy skate rentals and ice time thanks to Buck &amp\; Honey&#39\;s.
LOCATION:Lake Ridge Bank River Rink 6320 Inland Wy Monona\, WI 53716
UID:e.9391.4463
SEQUENCE:3
DTSTAMP:20260424T113934Z
URL:https://members.somethingspecialwi.com/events/details/ice-skating-4463
END:VEVENT

END:VCALENDAR
