BEGIN:VCALENDAR
VERSION:2.0
PRODID:-//ChamberMaster//Event Calendar 2.0//EN
METHOD:PUBLISH
X-PUBLISHED-TTL:P3D
REFRESH-INTERVAL:P3D
CALSCALE:GREGORIAN
BEGIN:VEVENT
DTSTART:20260501T220000Z
DTEND:20260502T010000Z
X-MICROSOFT-CDO-ALLDAYEVENT:FALSE
SUMMARY:Food Truck Friday at Working Draft Beer Company
DESCRIPTION:Every Friday from May through September\, we are hosting a food truck from 5-8pm! We will be rotating through the following food trucks each Friday night: Banzo - Amazing Mediterranean food El Grito - Unique\, inspired tacos Paul's Pel'Meni - Authentic dumplings Sabor Regio - Tasty street tacos and more Sandwich Hub - Sandwiches made from scratch Check Working Draft's website to see what the food truck is this week. Food goes great with beer and beer goes great with food. Bon apetit!
X-ALT-DESC;FMTTYPE=text/html:Every Friday from May through September\, we are hosting a food truck from 5-8pm! We will be rotating through the following food trucks each Friday night: Banzo - Amazing Mediterranean food El Grito - Unique\, inspired tacos Paul&rsquo\;s Pel&rsquo\;Meni - Authentic dumplings Sabor Regio - Tasty street tacos and more Sandwich Hub - Sandwiches made from scratch Check Working Draft&#39\;s website to see what the food truck is this week. Food goes great with beer and beer goes great with food. Bon apetit!
LOCATION:Working Draft Beer Company 1129 E. Wilson Street MADISON\, WI 53703
UID:e.9391.4764
SEQUENCE:3
DTSTAMP:20260424T103444Z
URL:https://members.somethingspecialwi.com/events/details/food-truck-friday-at-working-draft-beer-company-4764
END:VEVENT

END:VCALENDAR
