BEGIN:VCALENDAR
VERSION:2.0
PRODID:-//ChamberMaster//Event Calendar 2.0//EN
METHOD:PUBLISH
X-PUBLISHED-TTL:P3D
REFRESH-INTERVAL:P3D
CALSCALE:GREGORIAN
BEGIN:VEVENT
DTSTART:20260319T150000Z
DTEND:20260319T210000Z
X-MICROSOFT-CDO-ALLDAYEVENT:FALSE
SUMMARY:FEAST! Local Foods Tradeshow
DESCRIPTION:FEAST! Local Foods Tradeshow returns to the Grand O2 Event Center in Cannon Falls\, Minn.\, Thursday March 19\, 2026. The exclusive local foods event brings together wholesale buyers and food & bev brands to increase access to local foods for consumers\, strengthen local food systems and build more resilient communities. Makers and buyers can talk shop during the Buyers' Expo and network during the awards ceremony and FEAST Founders Forum. Learn more and register at local-feast.org/tradeshow. The FEAST! Local Foods Tradeshow is a nonprofit event presented by Southern Minnesota Initiative Foundation\, Renewing the Countryside\, the Minnesota Department of Agriculture\, Compeer Financial\, and the FEAST! Local Foods Network. For more\, follow @localfeastnetwork on Facebook and @localfeast on Instagram.
X-ALT-DESC;FMTTYPE=text/html:FEAST! Local Foods Tradeshow returns to the Grand O2 Event Center in Cannon Falls\, Minn.\, Thursday March 19\, 2026. The exclusive local foods event brings together wholesale buyers and food &amp\; bev brands to increase access to local foods for consumers\, strengthen local food systems and build more resilient communities. Makers and buyers can talk shop during the Buyers&rsquo\; Expo&mdash\;and network during the awards ceremony and FEAST Founders Forum. Learn more and register at local-feast.org/tradeshow. The FEAST! Local Foods Tradeshow is a nonprofit event presented by Southern Minnesota Initiative Foundation\, Renewing the Countryside\, the Minnesota Department of Agriculture\, Compeer Financial\, and the FEAST! Local Foods Network. For more\, follow @localfeastnetwork on Facebook and @localfeast on Instagram.
LOCATION:Grand O2 Event Center 32057 64th Ave Cannon Falls\, MN
UID:e.9391.4449
SEQUENCE:3
DTSTAMP:20260424T104843Z
URL:https://members.somethingspecialwi.com/events/details/feast-local-foods-tradeshow-03-19-2026-4449
END:VEVENT

END:VCALENDAR
