BEGIN:VCALENDAR
VERSION:2.0
PRODID:-//ChamberMaster//Event Calendar 2.0//EN
METHOD:PUBLISH
X-PUBLISHED-TTL:P3D
REFRESH-INTERVAL:P3D
CALSCALE:GREGORIAN
BEGIN:VEVENT
DTSTART:20260517T191500Z
DTEND:20260517T204500Z
X-MICROSOFT-CDO-ALLDAYEVENT:FALSE
SUMMARY:Classical Guitar performed by Matt Brooks
DESCRIPTION:We are excited to host Matt Brooks for his first performance at Minocqua Brewing Company's Madison taproom! Matt has an outstanding classical pedigree\, and also plays with several other projects\, so in addition to future classical performances you may spot him other times. Born and raised in Oconomowoc\, WI\, Matt Brooks began his musical journey at the age of eight. He graduated from the University of North Texas in 2014 with a BA in Music\, specializing in classical guitar. During his time in Texas\, Matt taught private guitar lessons and played in multiple original and cover bands around Dallas/Ft. Worth until he accepted the first of three cruise ship contracts in 2016 as the showband guitarist aboard the Norwegian Jade. After returning to Wisconsin\, Matt moved to Madison in 2017 and currently performs as a soloist at weddings and other events around the state and plays with the Milwaukee-based Myles Wangerin Band\, as well as his new projects\, Gypsy Vanner and Discount Flannel. Matt now resides with his family in Lodi\, Wisconsin\, where he recently opened Matt Brooks Guitar Studio for private guitar and bass instruction.
X-ALT-DESC;FMTTYPE=text/html:We are excited to host Matt Brooks for his first performance at Minocqua Brewing Company&#39\;s Madison taproom! Matt has an outstanding classical pedigree\, and also plays with several other projects\, so in addition to future classical performances you may spot him other times. Born and raised in Oconomowoc\, WI\, Matt Brooks began his musical journey at the age of eight. He graduated from the University of North Texas in 2014 with a BA in Music\, specializing in classical guitar. During his time in Texas\, Matt taught private guitar lessons and played in multiple original and cover bands around Dallas/Ft. Worth until he accepted the first of three cruise ship contracts in 2016 as the showband guitarist aboard the Norwegian Jade. After returning to Wisconsin\, Matt moved to Madison in 2017 and currently performs as a soloist at weddings and other events around the state and plays with the Milwaukee-based Myles Wangerin Band\, as well as his new projects\, Gypsy Vanner and Discount Flannel. Matt now resides with his family in Lodi\, Wisconsin\, where he recently opened Matt Brooks Guitar Studio for private guitar and bass instruction.
LOCATION:Madison Taproom\, Minocqua Brewing Company 2927 E Washington Ave Madison\, WI 53704
UID:e.9391.4765
SEQUENCE:3
DTSTAMP:20260424T100053Z
URL:https://members.somethingspecialwi.com/events/details/classical-guitar-performed-by-matt-brooks-4765
END:VEVENT

END:VCALENDAR
