BEGIN:VCALENDAR
VERSION:2.0
PRODID:-//ChamberMaster//Event Calendar 2.0//EN
METHOD:PUBLISH
X-PUBLISHED-TTL:P3D
REFRESH-INTERVAL:P3D
CALSCALE:GREGORIAN
BEGIN:VEVENT
DTSTART:20260321T200000Z
DTEND:20260418T230000Z
X-MICROSOFT-CDO-ALLDAYEVENT:FALSE
SUMMARY:Bluegrass Jam Hosted By Willie Jones of Sortin' The Mail
DESCRIPTION:Willie Jones from Madison-based grass band\, Sortin' The Mail\, will be hosting a monthly bluegrass jam at our taproom! This jam will be a little different than your standard. While we will never tell a musician how to do their job\, our only request was "fun\, uptempo\, and different". While we love standards and traditional old-timey\, we want our jam sessions to be a little more of a broad array of styles. Each jam will start with a set of tunes from Willie (and possibly some special guests!) followed by an open jam for anyone who has a tune they wanna share or is just looking to rock out. So come join us for a great afternoon of pickin' and grinnin'! Happens on the following Dates: Mar 21\, 2026\, 3:00pm to 6:00pm Timezone: Central Time (US & Canada) Apr 18\, 2026\, 3:00pm to 6:00pm Timezone: Central Time (US & Canada)
X-ALT-DESC;FMTTYPE=text/html:Willie Jones from Madison-based grass band\, Sortin&#39\; The Mail\, will be hosting a monthly bluegrass jam at our taproom! This jam will be a little different than your standard. While we will never tell a musician how to do their job\, our only request was &quot\;fun\, uptempo\, and different&quot\;. While we love standards and traditional old-timey\, we want our jam sessions to be a little more of a broad array of styles. Each jam will start with a set of tunes from Willie (and possibly some special guests!) followed by an open jam for anyone who has a tune they wanna share or is just looking to rock out. So come join us for a great afternoon of pickin&#39\; and grinnin&#39\;! Happens on the following Dates: Mar 21\, 2026\, 3:00pm to 6:00pm Timezone: Central Time (US &amp\; Canada) Apr 18\, 2026\, 3:00pm to 6:00pm Timezone: Central Time (US &amp\; Canada)
LOCATION:Minocqua Brewing Company\, 2927 East Washington Avenue\, Madison\, WI 53704
UID:e.9391.4470
SEQUENCE:3
DTSTAMP:20260424T104720Z
URL:https://members.somethingspecialwi.com/events/details/bluegrass-jam-hosted-by-willie-jones-of-sortin-the-mail-4470
END:VEVENT

END:VCALENDAR
