BEGIN:VCALENDAR
VERSION:2.0
PRODID:-//ChamberMaster//Event Calendar 2.0//EN
METHOD:PUBLISH
X-PUBLISHED-TTL:P3D
REFRESH-INTERVAL:P3D
CALSCALE:GREGORIAN
BEGIN:VEVENT
DTSTART:20260502T200000Z
DTEND:20260502T220000Z
X-MICROSOFT-CDO-ALLDAYEVENT:FALSE
SUMMARY:BB and the Billies
DESCRIPTION:BB & The Billies are a neo-traditional Country & Western/Americana trio hailing from the middle of nowhere\, (Rochelle\, Illinois) with influences ranging from Johnny Cash\, Carl Perkins and The Carter Family to Neil Young\, Lucinda Williams and John Prine. Consisting of the effervescent "BB" (Betsy Petrie) on vocals and harmonica\, "Li'l G" (Greg Barker) on the Gretsch Country Gentleman guitar and "Big T" (Toby Petrie) songsmith\, vocals\, cajon\, accordion and various other noisemakers\, the Billies sound incorporates traditional song structures with progressive and often ironic lyrics: An echo from the past with a clamor toward the future
X-ALT-DESC;FMTTYPE=text/html:BB &amp\; The Billies are a neo-traditional Country &amp\; Western/Americana trio hailing from the middle of nowhere\, (Rochelle\, Illinois) with influences ranging from Johnny Cash\, Carl Perkins and The Carter Family to Neil Young\, Lucinda Williams and John Prine. Consisting of the effervescent &ldquo\;BB&rdquo\; (Betsy Petrie) on vocals and harmonica\, &ldquo\;Li&rsquo\;l G&rdquo\; (Greg Barker) on the Gretsch Country Gentleman guitar and &ldquo\;Big T&rdquo\; (Toby Petrie) songsmith\, vocals\, cajon\, accordion and various other noisemakers\, the Billies sound incorporates traditional song structures with progressive and often ironic lyrics: An echo from the past with a clamor toward the future
LOCATION:Minocqua Brewing Company 2927 East Washington Avenue Madison\, WI 53704
UID:e.9391.4768
SEQUENCE:3
DTSTAMP:20260424T100123Z
URL:https://members.somethingspecialwi.com/events/details/bb-and-the-billies-4768
END:VEVENT

END:VCALENDAR
